BEGIN:VCALENDAR
VERSION:2.0
PRODID:-//City of Watervliet - ECPv6.15.20//NONSGML v1.0//EN
CALSCALE:GREGORIAN
METHOD:PUBLISH
X-WR-CALNAME:City of Watervliet
X-ORIGINAL-URL:https://watervlietny.gov
X-WR-CALDESC:Events for City of Watervliet
REFRESH-INTERVAL;VALUE=DURATION:PT1H
X-Robots-Tag:noindex
X-PUBLISHED-TTL:PT1H
BEGIN:VTIMEZONE
TZID:America/New_York
BEGIN:DAYLIGHT
TZOFFSETFROM:-0500
TZOFFSETTO:-0400
TZNAME:EDT
DTSTART:20250309T070000
END:DAYLIGHT
BEGIN:STANDARD
TZOFFSETFROM:-0400
TZOFFSETTO:-0500
TZNAME:EST
DTSTART:20251102T060000
END:STANDARD
BEGIN:DAYLIGHT
TZOFFSETFROM:-0500
TZOFFSETTO:-0400
TZNAME:EDT
DTSTART:20260308T070000
END:DAYLIGHT
BEGIN:STANDARD
TZOFFSETFROM:-0400
TZOFFSETTO:-0500
TZNAME:EST
DTSTART:20261101T060000
END:STANDARD
BEGIN:DAYLIGHT
TZOFFSETFROM:-0500
TZOFFSETTO:-0400
TZNAME:EDT
DTSTART:20270314T070000
END:DAYLIGHT
BEGIN:STANDARD
TZOFFSETFROM:-0400
TZOFFSETTO:-0500
TZNAME:EST
DTSTART:20271107T060000
END:STANDARD
END:VTIMEZONE
BEGIN:VEVENT
DTSTART;TZID=America/New_York:20260418T130000
DTEND;TZID=America/New_York:20260418T170000
DTSTAMP:20260422T051827
CREATED:20260227T172457Z
LAST-MODIFIED:20260313T155313Z
UID:10000314-1776517200-1776531600@watervlietny.gov
SUMMARY:Vliet's Got Talent
DESCRIPTION:Saturday\, April 18th at 1:00 PM at Watervliet Cultural Center \nGoal: Showcase local talent\, increase community engagement\, and create a signature annual entertainment event. \nTarget Participants: Residents of Watervliet and surrounding Capital Region Ages 8-18! \n  \nEvent Format (AGT-Style Structure) \nPhase 1: Open Auditions (Virtual + In-Person) \n\nOnline video submissions (2–3 minutes max)\nIn-person audition day at Community Center – March 27th (3pm-5pm)\nJudges narrow down to 15 semifinalists\n\nTo submit video or sign up for our in person audition March 27th\, 3-5pm email thughes@watervlietny.gov   \nCategories: \n\nSinging\nDancing\nComedy\nInstrumental\nSpoken word\nMagic\nVariety acts\nYouth showcase division (optional)\n\nPrizes: TBA
URL:https://watervlietny.gov/event/vliets-got-talent/
END:VEVENT
END:VCALENDAR